BEGIN:VCALENDAR
VERSION:2.0
PRODID:-//Westport Squash - ECPv6.15.19//NONSGML v1.0//EN
CALSCALE:GREGORIAN
METHOD:PUBLISH
X-ORIGINAL-URL:https://westportsquash.org
X-WR-CALDESC:Events for Westport Squash
REFRESH-INTERVAL;VALUE=DURATION:PT1H
X-Robots-Tag:noindex
X-PUBLISHED-TTL:PT1H
BEGIN:VTIMEZONE
TZID:America/New_York
BEGIN:DAYLIGHT
TZOFFSETFROM:-0500
TZOFFSETTO:-0400
TZNAME:EDT
DTSTART:20230312T070000
END:DAYLIGHT
BEGIN:STANDARD
TZOFFSETFROM:-0400
TZOFFSETTO:-0500
TZNAME:EST
DTSTART:20231105T060000
END:STANDARD
BEGIN:DAYLIGHT
TZOFFSETFROM:-0500
TZOFFSETTO:-0400
TZNAME:EDT
DTSTART:20240310T070000
END:DAYLIGHT
BEGIN:STANDARD
TZOFFSETFROM:-0400
TZOFFSETTO:-0500
TZNAME:EST
DTSTART:20241103T060000
END:STANDARD
BEGIN:DAYLIGHT
TZOFFSETFROM:-0500
TZOFFSETTO:-0400
TZNAME:EDT
DTSTART:20250309T070000
END:DAYLIGHT
BEGIN:STANDARD
TZOFFSETFROM:-0400
TZOFFSETTO:-0500
TZNAME:EST
DTSTART:20251102T060000
END:STANDARD
END:VTIMEZONE
BEGIN:VEVENT
DTSTART;TZID=America/New_York:20240120T160000
DTEND;TZID=America/New_York:20240120T180000
DTSTAMP:20260421T164351
CREATED:20231121T012239Z
LAST-MODIFIED:20251209T152842Z
UID:10000139-1705766400-1705773600@westportsquash.org
SUMMARY:Boys Varsity vs GFA
DESCRIPTION:Away match
URL:https://westportsquash.org/event/boys-varsity-vs-fairfield/
LOCATION:Greens Farms Academy\, 35 Beachside Ave\, Westport\, CT\, 06880\, United States
CATEGORIES:High School Varsity Boys,Matches
ATTACH;FMTTYPE=image/jpeg:https://westportsquash.org/wp-content/uploads/2022/06/Boys-Match-16x9-1.jpg
ORGANIZER;CN="Westport Squash":MAILTO:info@westportsquash.org
END:VEVENT
END:VCALENDAR